BEGIN:VCALENDAR
VERSION:2.0
CALSCALE:GREGORIAN
PRODID:-//Diputació de Barcelona//DibaCMS//EN
BEGIN:VEVENT
UID:3766
DTSTAMP:20260422T080907
DTSTART:20181020T180000
DTEND:20181020T200000
SUMMARY:Representació de El Petít Príncep
LOCATION:
METHOD:PUBLISH
X-WR-CALNAME:capellades@capellades.cat
X-WR-TIMEZONE:Europe/Madrid
DESCRIPTION:El Grup Teatral de Capellades farà una nova representació de l'obra "El petit príncep".

URI:https://www.capellades.cat/actualitat/agenda/representacio-de-el-petit-princep.html
CLASS:PUBLIC
END:VEVENT
END:VCALENDAR
