BEGIN:VCALENDAR
VERSION:2.0
CALSCALE:GREGORIAN
PRODID:-//Diputació de Barcelona//DibaCMS//EN
BEGIN:VEVENT
UID:3765
DTSTAMP:20260422T083447
DTSTART:20181019T191500
DTEND:20181019T210000
SUMMARY:Lliga de Jocs, a La Lliga
LOCATION:C/ Pilar, 13 08786 Capellades
METHOD:PUBLISH
X-WR-CALNAME:capellades@capellades.cat
X-WR-TIMEZONE:Europe/Madrid
DESCRIPTION:La Lliga proposa divertir-se una tarda amb diversos jocs de taula.

URI:https://www.capellades.cat/actualitat/agenda/lliga-de-jocs-a-la-lliga.html
CLASS:PUBLIC
END:VEVENT
END:VCALENDAR
