BEGIN:VCALENDAR
VERSION:2.0
CALSCALE:GREGORIAN
PRODID:-//Diputació de Barcelona//DibaCMS//EN
BEGIN:VEVENT
UID:3754
DTSTAMP:20260422T161506
DTSTART:20181018T193000
DTEND:20181018T210000
SUMMARY:Presentació del llibre "Camins de Salud"
LOCATION:
METHOD:PUBLISH
X-WR-CALNAME:capellades@capellades.cat
X-WR-TIMEZONE:Europe/Madrid
DESCRIPTION:Al Saló Rosa de La Lliga de Capellades es farà la presentació del llibre "Camins de salud".

URI:https://www.capellades.cat/actualitat/agenda/presentacio-del-llibre-camins-de-salud.html
CLASS:PUBLIC
END:VEVENT
END:VCALENDAR
