BEGIN:VCALENDAR
VERSION:2.0
CALSCALE:GREGORIAN
PRODID:-//Diputació de Barcelona//DibaCMS//EN
BEGIN:VEVENT
UID:3753
DTSTAMP:20260422T032917
DTSTART:20181014T000000
DTEND:20181014T200000
SUMMARY:S'acaba l'exposició del Concurs Fotogràfic de Festa Major
LOCATION:
METHOD:PUBLISH
X-WR-CALNAME:capellades@capellades.cat
X-WR-TIMEZONE:Europe/Madrid
DESCRIPTION:Aquest és el darrer cap de setmana per visitar a Casa Bas la mostra amb les imatges que han participat al Concurs Fotogràfic de Festa Major.

URI:https://www.capellades.cat/actualitat/agenda/sacaba-lexposicio-del-concurs-fotografic-de-festa-major.html
CLASS:PUBLIC
END:VEVENT
END:VCALENDAR
