BEGIN:VCALENDAR
VERSION:2.0
CALSCALE:GREGORIAN
PRODID:-//Diputació de Barcelona//DibaCMS//EN
BEGIN:VEVENT
UID:3752
DTSTAMP:20260422T032742
DTSTART:20181013T110000
DTEND:20181013T210000
SUMMARY:Nova temporada del Club de Futbol Sala
LOCATION:
METHOD:PUBLISH
X-WR-CALNAME:capellades@capellades.cat
X-WR-TIMEZONE:Europe/Madrid
DESCRIPTION:Ha començat ja una nova temporada per al Club de Futbol Sala Capellades.

URI:https://www.capellades.cat/actualitat/agenda/nova-temporada-del-club-de-futbol-sala.html
CLASS:PUBLIC
END:VEVENT
END:VCALENDAR
