BEGIN:VCALENDAR
VERSION:2.0
CALSCALE:GREGORIAN
PRODID:-//Diputació de Barcelona//DibaCMS//EN
BEGIN:VEVENT
UID:3745
DTSTAMP:20260422T044731
DTSTART:20181016T180000
DTEND:20181016T200000
SUMMARY:BiblioLab, "Dibuixa el teu superheroi"
LOCATION:
METHOD:PUBLISH
X-WR-CALNAME:capellades@capellades.cat
X-WR-TIMEZONE:Europe/Madrid
DESCRIPTION:
URI:https://www.capellades.cat/actualitat/agenda/bibliolab-dibuixa-el-teu-superheroi.html
CLASS:PUBLIC
END:VEVENT
END:VCALENDAR
