BEGIN:VCALENDAR
VERSION:2.0
CALSCALE:GREGORIAN
PRODID:-//Diputació de Barcelona//DibaCMS//EN
BEGIN:VEVENT
UID:3744
DTSTAMP:20260422T032807
DTSTART:20181015T070000
DTEND:20181015T210000
SUMMARY:Homenatge al President Companys
LOCATION:
METHOD:PUBLISH
X-WR-CALNAME:capellades@capellades.cat
X-WR-TIMEZONE:Europe/Madrid
DESCRIPTION:Dilluns 15 d'octubre es farà diversos actes en homenatge al President de la Generalitat de Catalunya, Lluís Companys.

URI:https://www.capellades.cat/actualitat/agenda/3744-homenatge-al-president-companys.html
CLASS:PUBLIC
END:VEVENT
END:VCALENDAR
