BEGIN:VCALENDAR
VERSION:2.0
CALSCALE:GREGORIAN
PRODID:-//Diputació de Barcelona//DibaCMS//EN
BEGIN:VEVENT
UID:3736
DTSTAMP:20260422T032951
DTSTART:20181014T111500
DTEND:20181014T124500
SUMMARY:Jornades Europees del Patrimoni
LOCATION:
METHOD:PUBLISH
X-WR-CALNAME:capellades@capellades.cat
X-WR-TIMEZONE:Europe/Madrid
DESCRIPTION:Capellades se suma als molts actes que hi ha previstos arreu del territori  amb una visita guiada a l'Abric Romaní. Es farà diumenge al matí, d'11:15 a 12:45.

URI:https://www.capellades.cat/actualitat/agenda/jornades-europees-del-patrimoni.html
CLASS:PUBLIC
END:VEVENT
END:VCALENDAR
