BEGIN:VCALENDAR
VERSION:2.0
CALSCALE:GREGORIAN
PRODID:-//Diputació de Barcelona//DibaCMS//EN
BEGIN:VEVENT
UID:3735
DTSTAMP:20260422T031738
DTSTART:20181012T000000
DTEND:20181012T230000
SUMMARY:La Lliga celebra 117 anys
LOCATION:
METHOD:PUBLISH
X-WR-CALNAME:capellades@capellades.cat
X-WR-TIMEZONE:Europe/Madrid
DESCRIPTION:La Societat La Lliga compleix 117 anys el dia 12 d'octubre.

URI:https://www.capellades.cat/actualitat/agenda/la-lliga-celebra-117-anys.html
CLASS:PUBLIC
END:VEVENT
END:VCALENDAR
