BEGIN:VCALENDAR
VERSION:2.0
CALSCALE:GREGORIAN
PRODID:-//Diputació de Barcelona//DibaCMS//EN
BEGIN:VEVENT
UID:3734
DTSTAMP:20260422T085916
DTSTART:20181010T103000
DTEND:20181010T113000
SUMMARY:Visita de l'Oficina Mòbil d'Atenció al Consumidor
LOCATION:
METHOD:PUBLISH
X-WR-CALNAME:capellades@capellades.cat
X-WR-TIMEZONE:Europe/Madrid
DESCRIPTION:L'Oficina Mòbil d'Atenció al Consumidor serà novament a Capellades per rpesoldre tots els dubtes relacionats amb qüestions de consum.

URI:https://www.capellades.cat/actualitat/agenda/3734-visita-de-loficina-mobil-datencio-al-consumidor.html
CLASS:PUBLIC
END:VEVENT
END:VCALENDAR
