BEGIN:VCALENDAR
VERSION:2.0
CALSCALE:GREGORIAN
PRODID:-//Diputació de Barcelona//DibaCMS//EN
BEGIN:VEVENT
UID:3733
DTSTAMP:20260422T102312
DTSTART:20181009T180000
DTEND:20181017T200000
SUMMARY:Bibliolab "Creart"
LOCATION:
METHOD:PUBLISH
X-WR-CALNAME:capellades@capellades.cat
X-WR-TIMEZONE:Europe/Madrid
DESCRIPTION:La Biblioteca El Safareig organitza un nou Bibliolab, anomenat "Creart".

 

URI:https://www.capellades.cat/actualitat/agenda/bibliolab-creart.html
CLASS:PUBLIC
END:VEVENT
END:VCALENDAR
