BEGIN:VCALENDAR
VERSION:2.0
CALSCALE:GREGORIAN
PRODID:-//Diputació de Barcelona//DibaCMS//EN
BEGIN:VEVENT
UID:3732
DTSTAMP:20260422T132154
DTSTART:20181007T180000
DTEND:20181007T200000
SUMMARY:"Les princeses també es tiren pets"
LOCATION:
METHOD:PUBLISH
X-WR-CALNAME:capellades@capellades.cat
X-WR-TIMEZONE:Europe/Madrid
DESCRIPTION:Comença la temporada de Xarxa amb un espectacle de la Companyia El Replà Produccions: "Les princeses també es tiren pets".

URI:https://www.capellades.cat/actualitat/agenda/les-princeses-tambe-es-tiren-pets.html
CLASS:PUBLIC
END:VEVENT
END:VCALENDAR
