BEGIN:VCALENDAR
VERSION:2.0
CALSCALE:GREGORIAN
PRODID:-//Diputació de Barcelona//DibaCMS//EN
BEGIN:VEVENT
UID:3731
DTSTAMP:20260422T160943
DTSTART:20181006T190000
DTEND:20181006T200000
SUMMARY:Concurs fotogràfic Festa Major: Entrega premis i exposició
LOCATION:
METHOD:PUBLISH
X-WR-CALNAME:capellades@capellades.cat
X-WR-TIMEZONE:Europe/Madrid
DESCRIPTION:L'Agrupació Fotogràfica de Capellades ha organitzat un Concurs Fotogràfic de la Festa Major de Capellades.

URI:https://www.capellades.cat/actualitat/agenda/concurs-fotografic-festa-major-entrega-premis-i-exposicio.html
CLASS:PUBLIC
END:VEVENT
END:VCALENDAR
