BEGIN:VCALENDAR
VERSION:2.0
CALSCALE:GREGORIAN
PRODID:-//Diputació de Barcelona//DibaCMS//EN
BEGIN:VEVENT
UID:3730
DTSTAMP:20260422T073846
DTSTART:20181006T113000
DTEND:20181006T140000
SUMMARY:IV Trobada de Falcons de l'Anoia
LOCATION:
METHOD:PUBLISH
X-WR-CALNAME:capellades@capellades.cat
X-WR-TIMEZONE:Europe/Madrid
DESCRIPTION:Capellades acollirà la IV Trobada de Falcons de l'Anoia, que es farà aquest dissabte al matí.

URI:https://www.capellades.cat/actualitat/agenda/iv-trobada-de-falcons-de-lanoia.html
CLASS:PUBLIC
END:VEVENT
END:VCALENDAR
