BEGIN:VCALENDAR
VERSION:2.0
CALSCALE:GREGORIAN
PRODID:-//Diputació de Barcelona//DibaCMS//EN
BEGIN:VEVENT
UID:3729
DTSTAMP:20260422T063038
DTSTART:20181006T110000
DTEND:20181006T220000
SUMMARY:Mostra de Cervesa Artesana
LOCATION:
METHOD:PUBLISH
X-WR-CALNAME:capellades@capellades.cat
X-WR-TIMEZONE:Europe/Madrid
DESCRIPTION:El dissabte 6 d'octubre es fa a Capellades la primera mostra de Cervesa Artesana.

URI:https://www.capellades.cat/actualitat/agenda/mostra-de-cervesa-artesana.html
CLASS:PUBLIC
END:VEVENT
END:VCALENDAR
