BEGIN:VCALENDAR
VERSION:2.0
CALSCALE:GREGORIAN
PRODID:-//Diputació de Barcelona//DibaCMS//EN
BEGIN:VEVENT
UID:3728
DTSTAMP:20260422T061222
DTSTART:20181005T193000
DTEND:20181005T210000
SUMMARY:Projecció de la pel·lícula "Una bolsa de canicas"
LOCATION:
METHOD:PUBLISH
X-WR-CALNAME:capellades@capellades.cat
X-WR-TIMEZONE:Europe/Madrid
DESCRIPTION:La Sala Petita del Teatre La Lliga de Capellades acollirà la projecció de la pel·lícula "Una bolsa de canicas".

URI:https://www.capellades.cat/actualitat/agenda/projeccio-de-la-pellicula-una-bolsa-de-canicas.html
CLASS:PUBLIC
END:VEVENT
END:VCALENDAR
