BEGIN:VCALENDAR
VERSION:2.0
CALSCALE:GREGORIAN
PRODID:-//Diputació de Barcelona//DibaCMS//EN
BEGIN:VEVENT
UID:3726
DTSTAMP:20260422T164254
DTSTART:20181004T193000
DTEND:20181004T210000
SUMMARY:Xerrada, Abdominals, cuidant el sòl pelvià
LOCATION:
METHOD:PUBLISH
X-WR-CALNAME:capellades@capellades.cat
X-WR-TIMEZONE:Europe/Madrid
DESCRIPTION:Nova xerrada al Saló Rosa de La Lliga de Capellades.

URI:https://www.capellades.cat/actualitat/agenda/xerrada-abdominals-cuidant-el-sol-pelvia.html
CLASS:PUBLIC
END:VEVENT
END:VCALENDAR
