BEGIN:VCALENDAR
VERSION:2.0
CALSCALE:GREGORIAN
PRODID:-//Diputació de Barcelona//DibaCMS//EN
BEGIN:VEVENT
UID:3719
DTSTAMP:20260422T042651
DTSTART:20180929T190000
DTEND:20181001T203000
SUMMARY:Actes de l'1 d'octubre
LOCATION:
METHOD:PUBLISH
X-WR-CALNAME:capellades@capellades.cat
X-WR-TIMEZONE:Europe/Madrid
DESCRIPTION:Aquest cap de setmana es farà a Capellades diversos actes en commemoració de l'1 d'Octubre, organitzats pel Comitè en Defensa de la República.

URI:https://www.capellades.cat/actualitat/agenda/actes-de-l1-doctubre.html
CLASS:PUBLIC
END:VEVENT
END:VCALENDAR
