BEGIN:VCALENDAR
VERSION:2.0
CALSCALE:GREGORIAN
PRODID:-//Diputació de Barcelona//DibaCMS//EN
BEGIN:VEVENT
UID:3718
DTSTAMP:20260422T141326
DTSTART:20180928T173000
DTEND:20180928T190000
SUMMARY:Inscripcions Coral Xeremell
LOCATION:
METHOD:PUBLISH
X-WR-CALNAME:capellades@capellades.cat
X-WR-TIMEZONE:Europe/Madrid
DESCRIPTION:Inscripcions obertes per al nou curs de la Coral Xeremell.

URI:https://www.capellades.cat/actualitat/agenda/inscripcions-coral-xeremell.html
CLASS:PUBLIC
END:VEVENT
END:VCALENDAR
