BEGIN:VCALENDAR
VERSION:2.0
CALSCALE:GREGORIAN
PRODID:-//Diputació de Barcelona//DibaCMS//EN
BEGIN:VEVENT
UID:3717
DTSTAMP:20260422T055055
DTSTART:20180927T190000
DTEND:20180928T210000
SUMMARY:Inscripcions a l'Esplai Aliret
LOCATION:
METHOD:PUBLISH
X-WR-CALNAME:capellades@capellades.cat
X-WR-TIMEZONE:Europe/Madrid
DESCRIPTION:Després d'informar a tothom el passat divendres 21 de setembre en una reunió, ara s'obren les inscripcions per al proper curs de l'Esplai Aliret de Capellades.

URI:https://www.capellades.cat/actualitat/agenda/inscripcions-a-lesplai-aliret.html
CLASS:PUBLIC
END:VEVENT
END:VCALENDAR
