BEGIN:VCALENDAR
VERSION:2.0
CALSCALE:GREGORIAN
PRODID:-//Diputació de Barcelona//DibaCMS//EN
BEGIN:VEVENT
UID:3713
DTSTAMP:20260422T093031
DTSTART:20180928T170000
DTEND:20180929T203000
SUMMARY:Capellades en oferta
LOCATION:
METHOD:PUBLISH
X-WR-CALNAME:capellades@capellades.cat
X-WR-TIMEZONE:Europe/Madrid
DESCRIPTION:Aquest cap de setmana, nova proposta de Capellades Comerç: "Capellades en oferta".

URI:https://www.capellades.cat/actualitat/agenda/capellades-en-oferta.html
CLASS:PUBLIC
END:VEVENT
END:VCALENDAR
