BEGIN:VCALENDAR
VERSION:2.0
CALSCALE:GREGORIAN
PRODID:-//Diputació de Barcelona//DibaCMS//EN
BEGIN:VEVENT
UID:3702
DTSTAMP:20260422T061357
DTSTART:20180922T190000
DTEND:20180922T210000
SUMMARY:Concert d'Estiu a Paper de Música
LOCATION:C/ del Fossar, 4 08786 Capellades
METHOD:PUBLISH
X-WR-CALNAME:capellades@capellades.cat
X-WR-TIMEZONE:Europe/Madrid
DESCRIPTION:Aquest dissabte es farà el Concert d'Estiu a Paper de Música.

URI:https://www.capellades.cat/actualitat/agenda/3702-concert-destiu-a-paper-de-musica.html
CLASS:PUBLIC
END:VEVENT
END:VCALENDAR
