BEGIN:VCALENDAR
VERSION:2.0
CALSCALE:GREGORIAN
PRODID:-//Diputació de Barcelona//DibaCMS//EN
BEGIN:VEVENT
UID:3701
DTSTAMP:20260422T020354
DTSTART:20180915T000000
DTEND:20180930T000000
SUMMARY:Papers Volants, al Museu Molí Paperer de Capellades
LOCATION:Pau Casals, 10 08786 Capellades
METHOD:PUBLISH
X-WR-CALNAME:capellades@capellades.cat
X-WR-TIMEZONE:Europe/Madrid
DESCRIPTION:Nova exposició al Museu Molí Paperer de Capellades: "Paper Volants" de Fran Bull.

URI:https://www.capellades.cat/actualitat/agenda/papers-volants-al-museu-moli-paperer-de-capellades.html
CLASS:PUBLIC
END:VEVENT
END:VCALENDAR
