BEGIN:VCALENDAR
VERSION:2.0
CALSCALE:GREGORIAN
PRODID:-//Diputació de Barcelona//DibaCMS//EN
BEGIN:VEVENT
UID:3699
DTSTAMP:20260422T082654
DTSTART:20180924T170000
DTEND:20180924T190000
SUMMARY:Taller d'animació gràfica
LOCATION:C/ Pilar, 2 08786 Capellades
METHOD:PUBLISH
X-WR-CALNAME:capellades@capellades.cat
X-WR-TIMEZONE:Europe/Madrid
DESCRIPTION:La Biblioteca El Safareig de Capellades proposa un nou taller a càrrec de Jordi Bosch.

URI:https://www.capellades.cat/actualitat/agenda/taller-danimacio-grafica.html
CLASS:PUBLIC
END:VEVENT
END:VCALENDAR
