BEGIN:VCALENDAR
VERSION:2.0
CALSCALE:GREGORIAN
PRODID:-//Diputació de Barcelona//DibaCMS//EN
BEGIN:VEVENT
UID:3698
DTSTAMP:20260422T110201
DTSTART:20180925T180000
DTEND:20180925T190000
SUMMARY:Bibliolab - Dibuixem en l'espai
LOCATION:C/ Pilar, 2 08786 Capellades
METHOD:PUBLISH
X-WR-CALNAME:capellades@capellades.cat
X-WR-TIMEZONE:Europe/Madrid
DESCRIPTION:Nova proposta de la Biblioteca El Safareig per a nens i nenes majors de 4 anys.

URI:https://www.capellades.cat/actualitat/agenda/bibliolab-dibuixem-en-lespai.html
CLASS:PUBLIC
END:VEVENT
END:VCALENDAR
