BEGIN:VCALENDAR
VERSION:2.0
CALSCALE:GREGORIAN
PRODID:-//Diputació de Barcelona//DibaCMS//EN
BEGIN:VEVENT
UID:3696
DTSTAMP:20260422T021416
DTSTART:20180918T173000
DTEND:20180918T183000
SUMMARY:Hora del conte per a infants de 0 a 3 anys
LOCATION:C/ Pilar, 2 08786 Capellades
METHOD:PUBLISH
X-WR-CALNAME:capellades@capellades.cat
X-WR-TIMEZONE:Europe/Madrid
DESCRIPTION:Torna l'activitat a la Biblioteca El Safareig amb una nova Hora del Conte.

URI:https://www.capellades.cat/actualitat/agenda/hora-del-conte-per-a-infants-de-0-a-3-anys.html
CLASS:PUBLIC
END:VEVENT
END:VCALENDAR
