BEGIN:VCALENDAR
VERSION:2.0
CALSCALE:GREGORIAN
PRODID:-//Diputació de Barcelona//DibaCMS//EN
BEGIN:VEVENT
UID:3691
DTSTAMP:20260422T015924
DTSTART:20180910T000000
DTEND:20180928T000000
SUMMARY:Nou curs de fotografia
LOCATION:
METHOD:PUBLISH
X-WR-CALNAME:capellades@capellades.cat
X-WR-TIMEZONE:Europe/Madrid
DESCRIPTION:L'Agrupació Fotogràfica Capellades organitza un nou curs de fotografia: "Lightroom... i més".

URI:https://www.capellades.cat/actualitat/agenda/nou-curs-de-fotografia.html
CLASS:PUBLIC
END:VEVENT
END:VCALENDAR
