BEGIN:VCALENDAR
VERSION:2.0
CALSCALE:GREGORIAN
PRODID:-//Diputació de Barcelona//DibaCMS//EN
BEGIN:VEVENT
UID:3690
DTSTAMP:20260422T095521
DTSTART:20180929T200000
DTEND:20180929T220000
SUMMARY:Teatre La Lliga
LOCATION:
METHOD:PUBLISH
X-WR-CALNAME:capellades@capellades.cat
X-WR-TIMEZONE:Europe/Madrid
DESCRIPTION:La companyia + per Tu de l'Ateneu Igualadí presenta "L'habitació de Verònica", d'Ira Levin.

URI:https://www.capellades.cat/actualitat/agenda/teatre-la-lliga.html
CLASS:PUBLIC
END:VEVENT
END:VCALENDAR
