BEGIN:VCALENDAR
VERSION:2.0
CALSCALE:GREGORIAN
PRODID:-//Diputació de Barcelona//DibaCMS//EN
BEGIN:VEVENT
UID:3689
DTSTAMP:20260422T025803
DTSTART:20180921T193000
DTEND:20180921T210000
SUMMARY:Trobada Poètica
LOCATION:C/ Pilar, 13 08786 Capellades
METHOD:PUBLISH
X-WR-CALNAME:capellades@capellades.cat
X-WR-TIMEZONE:Europe/Madrid
DESCRIPTION:Reprenem el curs amb una nova trobada de Poesia al Cafè La Lliga.

URI:https://www.capellades.cat/actualitat/agenda/3689-trobada-poetica.html
CLASS:PUBLIC
END:VEVENT
END:VCALENDAR
