BEGIN:VCALENDAR
VERSION:2.0
CALSCALE:GREGORIAN
PRODID:-//Diputació de Barcelona//DibaCMS//EN
BEGIN:VEVENT
UID:3688
DTSTAMP:20260422T054332
DTSTART:20180920T193000
DTEND:20180920T210000
SUMMARY:Cinema: La llum d'Elna
LOCATION:
METHOD:PUBLISH
X-WR-CALNAME:capellades@capellades.cat
X-WR-TIMEZONE:Europe/Madrid
DESCRIPTION:Nova projecció a la Sala Petita del Teatre La Lliga, per al dijous 20 de setembre a dos quarts de 8 del vespre.

URI:https://www.capellades.cat/actualitat/agenda/cinema-la-llum-delna.html
CLASS:PUBLIC
END:VEVENT
END:VCALENDAR
