BEGIN:VCALENDAR
VERSION:2.0
CALSCALE:GREGORIAN
PRODID:-//Diputació de Barcelona//DibaCMS//EN
BEGIN:VEVENT
UID:3687
DTSTAMP:20260422T023410
DTSTART:20180814T123000
DTEND:20180930T203000
SUMMARY:Exposició Jordi López Alert
LOCATION:C/ D'Oló 08786 Capellades
METHOD:PUBLISH
X-WR-CALNAME:capellades@capellades.cat
X-WR-TIMEZONE:Europe/Madrid
DESCRIPTION:Es prorroga l'exposició "Res no caduca: reciclant emocions" de l'artista capelladí Jordi López Alert.

URI:https://www.capellades.cat/actualitat/agenda/3687-exposicio-jordi-lopez-alert.html
CLASS:PUBLIC
END:VEVENT
END:VCALENDAR
