BEGIN:VCALENDAR
VERSION:2.0
CALSCALE:GREGORIAN
PRODID:-//Diputació de Barcelona//DibaCMS//EN
BEGIN:VEVENT
UID:3684
DTSTAMP:20260422T032244
DTSTART:20180915T220000
DTEND:20180915T235500
SUMMARY:Concert amb Visacos
LOCATION:
METHOD:PUBLISH
X-WR-CALNAME:capellades@capellades.cat
X-WR-TIMEZONE:Europe/Madrid
DESCRIPTION:Per acabar l'estiu, abans de començar el curs: concert amb els Visacos.

URI:https://www.capellades.cat/actualitat/agenda/concert-amb-visacos.html
CLASS:PUBLIC
END:VEVENT
END:VCALENDAR
