BEGIN:VCALENDAR
VERSION:2.0
CALSCALE:GREGORIAN
PRODID:-//Diputació de Barcelona//DibaCMS//EN
BEGIN:VEVENT
UID:3683
DTSTAMP:20260422T020235
DTSTART:20180907T193000
DTEND:20180907T210000
SUMMARY:Cinema a La Lliga 
LOCATION:C/ Pilar, 13 08786 Capellades
METHOD:PUBLISH
X-WR-CALNAME:capellades@capellades.cat
X-WR-TIMEZONE:Europe/Madrid
DESCRIPTION:Entrada lliure per veure a la Sala Petita del Teatre La Lliga "La Forma del Agua".

URI:https://www.capellades.cat/actualitat/agenda/cinema-a-la-lliga-.html
CLASS:PUBLIC
END:VEVENT
END:VCALENDAR
