BEGIN:VCALENDAR
VERSION:2.0
CALSCALE:GREGORIAN
PRODID:-//Diputació de Barcelona//DibaCMS//EN
BEGIN:VEVENT
UID:3682
DTSTAMP:20260422T114732
DTSTART:20180909T110000
DTEND:20180909T140000
SUMMARY:Festa d'inflables a la piscina
LOCATION:08786 Capellades
METHOD:PUBLISH
X-WR-CALNAME:capellades@capellades.cat
X-WR-TIMEZONE:Europe/Madrid
DESCRIPTION:Aquest diumenge 9 de setembre festa d'inflables a la Piscina Blava.

URI:https://www.capellades.cat/actualitat/agenda/festa-dinflables-a-la-piscina.html
CLASS:PUBLIC
END:VEVENT
END:VCALENDAR
