BEGIN:VCALENDAR
VERSION:2.0
CALSCALE:GREGORIAN
PRODID:-//Diputació de Barcelona//DibaCMS//EN
BEGIN:VEVENT
UID:3662
DTSTAMP:20260422T104944
DTSTART:20180809T120000
DTEND:20180831T000000
SUMMARY:Aquí tens el programa de mà de la FM
LOCATION:
METHOD:PUBLISH
X-WR-CALNAME:capellades@capellades.cat
X-WR-TIMEZONE:Europe/Madrid
DESCRIPTION:Aquí tens el programa de mà amb els actes de la Festa Major de Capellades.

URI:https://www.capellades.cat/actualitat/agenda/aqui-tens-el-programa-de-ma-de-la-fm.html
CLASS:PUBLIC
END:VEVENT
END:VCALENDAR
