BEGIN:VCALENDAR
VERSION:2.0
CALSCALE:GREGORIAN
PRODID:-//Diputació de Barcelona//DibaCMS//EN
BEGIN:VEVENT
UID:3643
DTSTAMP:20260422T104754
DTSTART:20180814T120000
DTEND:20180902T203000
SUMMARY:Exposició Jordi López Alert
LOCATION:
METHOD:PUBLISH
X-WR-CALNAME:capellades@capellades.cat
X-WR-TIMEZONE:Europe/Madrid
DESCRIPTION:Casa Bas acollirà la nova mostra de Jordi López Alert "Res no caduca: reciclant emocions".

URI:https://www.capellades.cat/actualitat/agenda/exposicio-jordi-lopez-alert.html
CLASS:PUBLIC
END:VEVENT
END:VCALENDAR
