BEGIN:VCALENDAR
VERSION:2.0
CALSCALE:GREGORIAN
PRODID:-//Diputació de Barcelona//DibaCMS//EN
BEGIN:VEVENT
UID:3642
DTSTAMP:20260422T064352
DTSTART:20180811T183000
DTEND:20180811T213000
SUMMARY:IV Capvespre d'Art
LOCATION:
METHOD:PUBLISH
X-WR-CALNAME:capellades@capellades.cat
X-WR-TIMEZONE:Europe/Madrid
DESCRIPTION:La Societat La Lliga presenta el IV Capvespre d'Art.

URI:https://www.capellades.cat/actualitat/agenda/iv-capvespre-dart.html
CLASS:PUBLIC
END:VEVENT
END:VCALENDAR
