BEGIN:VCALENDAR
VERSION:2.0
CALSCALE:GREGORIAN
PRODID:-//Diputació de Barcelona//DibaCMS//EN
BEGIN:VEVENT
UID:3641
DTSTAMP:20260422T042458
DTSTART:20180804T210000
DTEND:20180805T010000
SUMMARY:Pícnic a la Piscina Blava
LOCATION:
METHOD:PUBLISH
X-WR-CALNAME:capellades@capellades.cat
X-WR-TIMEZONE:Europe/Madrid
DESCRIPTION:La Casa d'Andalusia a Capellades organitza una nit de música i diversió a la Piscina Blava de Capellades.

URI:https://www.capellades.cat/actualitat/agenda/picnic-a-la-piscina-blava.html
CLASS:PUBLIC
END:VEVENT
END:VCALENDAR
