BEGIN:VCALENDAR
VERSION:2.0
CALSCALE:GREGORIAN
PRODID:-//Diputació de Barcelona//DibaCMS//EN
BEGIN:VEVENT
UID:3640
DTSTAMP:20260422T124350
DTSTART:20180803T220000
DTEND:20180803T235500
SUMMARY:Divendres a la La Llíga: karaoke acústic
LOCATION:
METHOD:PUBLISH
X-WR-CALNAME:capellades@capellades.cat
X-WR-TIMEZONE:Europe/Madrid
DESCRIPTION:Per acabar la proposta els "Divendres a La Lliga", viu el karaoke acústic.

URI:https://www.capellades.cat/actualitat/agenda/divendres-a-la-la-lliga-karaoke-acustic.html
CLASS:PUBLIC
END:VEVENT
END:VCALENDAR
