BEGIN:VCALENDAR
VERSION:2.0
CALSCALE:GREGORIAN
PRODID:-//Diputació de Barcelona//DibaCMS//EN
BEGIN:VEVENT
UID:3639
DTSTAMP:20260422T111241
DTSTART:20180815T080000
DTEND:20180815T120000
SUMMARY:I Matinades a Capellades 15 d'agost
LOCATION:
METHOD:PUBLISH
X-WR-CALNAME:capellades@capellades.cat
X-WR-TIMEZONE:Europe/Madrid
DESCRIPTION:Tens la gralla o el tabal a casa?

URI:https://www.capellades.cat/actualitat/agenda/i-matinades-a-capellades-15-dagost.html
CLASS:PUBLIC
END:VEVENT
END:VCALENDAR
