BEGIN:VCALENDAR
VERSION:2.0
CALSCALE:GREGORIAN
PRODID:-//Diputació de Barcelona//DibaCMS//EN
BEGIN:VEVENT
UID:3638
DTSTAMP:20260422T151005
DTSTART:20180814T000000
DTEND:20180817T000000
SUMMARY:2on. Concurs de Fotografia
LOCATION:
METHOD:PUBLISH
X-WR-CALNAME:capellades@capellades.cat
X-WR-TIMEZONE:Europe/Madrid
DESCRIPTION:L'Agrupació fotogràfica Capellades organitza el segon Concurs de Fotografia de Festa Major de Capellades.

URI:https://www.capellades.cat/actualitat/agenda/2on-concurs-de-fotografia.html
CLASS:PUBLIC
END:VEVENT
END:VCALENDAR
