BEGIN:VCALENDAR
VERSION:2.0
CALSCALE:GREGORIAN
PRODID:-//Diputació de Barcelona//DibaCMS//EN
BEGIN:VEVENT
UID:3626
DTSTAMP:20260422T042618
DTSTART:20180728T180000
DTEND:20180728T235900
SUMMARY:Nit del Comerç
LOCATION:
METHOD:PUBLISH
X-WR-CALNAME:capellades@capellades.cat
X-WR-TIMEZONE:Europe/Madrid
DESCRIPTION:El darrer cap de setmana de juliol es farà una nova edició de la Nit del Comerç de Capellades.

URI:https://www.capellades.cat/actualitat/agenda/nit-del-comerc.html
CLASS:PUBLIC
END:VEVENT
END:VCALENDAR
