BEGIN:VCALENDAR
VERSION:2.0
CALSCALE:GREGORIAN
PRODID:-//Diputació de Barcelona//DibaCMS//EN
BEGIN:VEVENT
UID:3625
DTSTAMP:20260422T025933
DTSTART:20180727T190000
DTEND:20180729T180000
SUMMARY:Torneig de Frontó i Piscina Nocturna
LOCATION:
METHOD:PUBLISH
X-WR-CALNAME:capellades@capellades.cat
X-WR-TIMEZONE:Europe/Madrid
DESCRIPTION:El darrer cap de setmana de juliol torna el Torneig de Frontó a la Piscina Blava de Capellades.

URI:https://www.capellades.cat/actualitat/agenda/torneig-de-fronto-i-piscina-nocturna.html
CLASS:PUBLIC
END:VEVENT
END:VCALENDAR
