BEGIN:VCALENDAR
VERSION:2.0
CALSCALE:GREGORIAN
PRODID:-//Diputació de Barcelona//DibaCMS//EN
BEGIN:VEVENT
UID:3624
DTSTAMP:20260422T033027
DTSTART:20180720T180000
DTEND:20180722T210000
SUMMARY:Beach Volley Tour 2018
LOCATION:
METHOD:PUBLISH
X-WR-CALNAME:capellades@capellades.cat
X-WR-TIMEZONE:Europe/Madrid
DESCRIPTION:Aquest divendres a les 6 de la tarda comença a l'esplanada del Capelló el Torneig de Volei Sorra.

URI:https://www.capellades.cat/actualitat/agenda/beach-volley-tour-2018.html
CLASS:PUBLIC
END:VEVENT
END:VCALENDAR
