BEGIN:VCALENDAR
VERSION:2.0
CALSCALE:GREGORIAN
PRODID:-//Diputació de Barcelona//DibaCMS//EN
BEGIN:VEVENT
UID:3623
DTSTAMP:20260422T013054
DTSTART:20180725T220000
DTEND:20180725T235500
SUMMARY:Cinema a la fresca: Yo, Daniel Blake
LOCATION:
METHOD:PUBLISH
X-WR-CALNAME:capellades@capellades.cat
X-WR-TIMEZONE:Europe/Madrid
DESCRIPTION:Darrera edició d'aquest mes del Cinema a la Fresca.

URI:https://www.capellades.cat/actualitat/agenda/cinema-a-la-fresca-yo-daniel-blake.html
CLASS:PUBLIC
END:VEVENT
END:VCALENDAR
