BEGIN:VCALENDAR
VERSION:2.0
CALSCALE:GREGORIAN
PRODID:-//Diputació de Barcelona//DibaCMS//EN
BEGIN:VEVENT
UID:3615
DTSTAMP:20260422T002901
DTSTART:20180714T183000
DTEND:20180722T203000
SUMMARY:Exposició col·lectiva social de l'Agrupació Fotogràfica
LOCATION:
METHOD:PUBLISH
X-WR-CALNAME:capellades@capellades.cat
X-WR-TIMEZONE:Europe/Madrid
DESCRIPTION:L'Agrupació Fotogràfica Capellades fa una exposició col·lectiva.

URI:https://www.capellades.cat/actualitat/agenda/exposicio-collectiva-social-de-lagrupacio-fotografica.html
CLASS:PUBLIC
END:VEVENT
END:VCALENDAR
