BEGIN:VCALENDAR
VERSION:2.0
CALSCALE:GREGORIAN
PRODID:-//Diputació de Barcelona//DibaCMS//EN
BEGIN:VEVENT
UID:3614
DTSTAMP:20260422T084421
DTSTART:20180720T220000
DTEND:20180720T230000
SUMMARY:Les nits dels divendres
LOCATION:
METHOD:PUBLISH
X-WR-CALNAME:capellades@capellades.cat
X-WR-TIMEZONE:Europe/Madrid
DESCRIPTION:Segona edició de les Nits dels Divendres, organitzades des de La Lliga

URI:https://www.capellades.cat/actualitat/agenda/3614-les-nits-dels-divendres.html
CLASS:PUBLIC
END:VEVENT
END:VCALENDAR
