BEGIN:VCALENDAR
VERSION:2.0
CALSCALE:GREGORIAN
PRODID:-//Diputació de Barcelona//DibaCMS//EN
BEGIN:VEVENT
UID:3611
DTSTAMP:20260422T023343
DTSTART:20180718T220000
DTEND:20180718T235500
SUMMARY:Més cinema a la fresca
LOCATION:
METHOD:PUBLISH
X-WR-CALNAME:capellades@capellades.cat
X-WR-TIMEZONE:Europe/Madrid
DESCRIPTION:Tercera setmana de Cinema a la Fresca proposada des de la Societat La Lliga.

URI:https://www.capellades.cat/actualitat/agenda/mes-cinema-a-la-fresca.html
CLASS:PUBLIC
END:VEVENT
END:VCALENDAR
