BEGIN:VCALENDAR
VERSION:2.0
CALSCALE:GREGORIAN
PRODID:-//Diputació de Barcelona//DibaCMS//EN
BEGIN:VEVENT
UID:3610
DTSTAMP:20260422T031504
DTSTART:20180718T170000
DTEND:20180718T210000
SUMMARY:Vine a donar sang
LOCATION:
METHOD:PUBLISH
X-WR-CALNAME:capellades@capellades.cat
X-WR-TIMEZONE:Europe/Madrid
DESCRIPTION:Nova campanya de donació de sang a Capellades.

URI:https://www.capellades.cat/actualitat/agenda/3610-vine-a-donar-sang.html
CLASS:PUBLIC
END:VEVENT
END:VCALENDAR
