BEGIN:VCALENDAR
VERSION:2.0
CALSCALE:GREGORIAN
PRODID:-//Diputació de Barcelona//DibaCMS//EN
BEGIN:VEVENT
UID:3606
DTSTAMP:20260422T141051
DTSTART:20180715T070000
DTEND:20180715T200000
SUMMARY:Sortida 100 Cims
LOCATION:
METHOD:PUBLISH
X-WR-CALNAME:capellades@capellades.cat
X-WR-TIMEZONE:Europe/Madrid
DESCRIPTION:Dins les sortides organitzades per AEMdeKP dins el projecte 100 Cims, diumenge s'anirà al Sobrespuny.

URI:https://www.capellades.cat/actualitat/agenda/sortida-100-cims.html
CLASS:PUBLIC
END:VEVENT
END:VCALENDAR
